BEGIN:VCALENDAR
VERSION:2.0
PRODID:-//Environmental Nonprofit Organization - ECPv6.15.20//NONSGML v1.0//EN
CALSCALE:GREGORIAN
METHOD:PUBLISH
X-ORIGINAL-URL:https://oceanblueproject.org
X-WR-CALDESC:Events for Environmental Nonprofit Organization
REFRESH-INTERVAL;VALUE=DURATION:PT1H
X-Robots-Tag:noindex
X-PUBLISHED-TTL:PT1H
BEGIN:VTIMEZONE
TZID:America/New_York
BEGIN:DAYLIGHT
TZOFFSETFROM:-0500
TZOFFSETTO:-0400
TZNAME:EDT
DTSTART:20220313T070000
END:DAYLIGHT
BEGIN:STANDARD
TZOFFSETFROM:-0400
TZOFFSETTO:-0500
TZNAME:EST
DTSTART:20221106T060000
END:STANDARD
BEGIN:DAYLIGHT
TZOFFSETFROM:-0500
TZOFFSETTO:-0400
TZNAME:EDT
DTSTART:20230312T070000
END:DAYLIGHT
BEGIN:STANDARD
TZOFFSETFROM:-0400
TZOFFSETTO:-0500
TZNAME:EST
DTSTART:20231105T060000
END:STANDARD
BEGIN:DAYLIGHT
TZOFFSETFROM:-0500
TZOFFSETTO:-0400
TZNAME:EDT
DTSTART:20240310T070000
END:DAYLIGHT
BEGIN:STANDARD
TZOFFSETFROM:-0400
TZOFFSETTO:-0500
TZNAME:EST
DTSTART:20241103T060000
END:STANDARD
END:VTIMEZONE
BEGIN:VEVENT
DTSTART;TZID=America/New_York:20230428T100000
DTEND;TZID=America/New_York:20230428T130000
DTSTAMP:20260422T090025
CREATED:20230418T193726Z
LAST-MODIFIED:20230418T195205Z
UID:23906-1682676000-1682686800@oceanblueproject.org
SUMMARY:Ocean Blue Project & SNHU CleanUp at York Maine Sponsored by ZenWTR
DESCRIPTION:Ocean Blue Project & SNHU CleanUp at York Maine Sponsored by ZenWTR\n \nJoin SNHU CleanUp Crew at Long Sands Beach in YorkLong Sands Beach CleanUp at York Maine Sponsored by ZenWTR Long Sands Beach CleanUp at York Maine Sponsored by ZenWTR Long Sands Beach CleanUp at York Maine Sponsored by ZenWTR\, Maine. CleanUp supplies will be provided. Please dress appropriately for the weather\, wear closed-toe shoes\, bring a reusable water bottle and your smile. \nWe will be looking for land-based debris\, microtrash and plastic while enjoying the Earth at one of our favorite beaches and protecting marine wildlife. \nPlan ahead for parking. Meeting place is on the beach at Long Sands Beach\, 189 Long Beach Ave\, York\, ME 03909. \n 
URL:https://oceanblueproject.org/event/snhu-ocean-blue-beach-cleanup-at-york-maine/
CATEGORIES:Beach Cleanup Near Me,Earth Day Cleanup near Maine
ATTACH;FMTTYPE=image/webp:https://oceanblueproject.org/wp-content/uploads/2022/11/turtle-ocean-blue-project-save-the-waves-cropped.webp
ORGANIZER;CN="189 Long Beach Ave":MAILTO:office@oceanblueproject.org
END:VEVENT
END:VCALENDAR